BEGIN:VCALENDAR
VERSION:2.0
PRODID:-//wp-events-plugin.com//7.2.3.1//EN
BEGIN:VEVENT
UID:116@riistavesi.fi
DTSTART:20250525T070000Z
DTEND:20250525T070000Z
DTSTAMP:20250208T091922Z
URL:https://riistavesi.fi/events/hippo-turnaus-vartialan-nurmella-jatkuu/
SUMMARY:Hippo-turnaus Vartialan nurmella jatkuu
DESCRIPTION:Juniorijalkapallo valtaa Vartialan nurmen\, kun Hippo-turnaus p
 elataan 24.—25.5.2025. Koko perheen tapahtumassa pääsee täydelliseen 
 jalkapallofiiliksen ja nauttimaan AC Barcan ja Riistaveden Osuuspankin jä
 rjestämästä tapahtumasta ja Barcan juniorikahvion herkuista sekä sykä
 hdyttävistä jalkapallohetkistä.\n\nTervetuloa!\n\nhttps://www.acbarca.f
 i/hippo-turnaus/turnausinfo/
LOCATION:Vartialan nurmikenttä\, Vartialankuja 1\, Riistavesi\, 71150\, Su
 omi
X-APPLE-STRUCTURED-LOCATION;VALUE=URI;X-ADDRESS=Vartialankuja 1\, Riistaves
 i\, 71150\, Suomi;X-APPLE-RADIUS=100;X-TITLE=Vartialan nurmikenttä:geo:0,
 0
END:VEVENT
END:VCALENDAR