BEGIN:VCALENDAR
VERSION:2.0
PRODID:-//wp-events-plugin.com//7.2.3.1//EN
BEGIN:VEVENT
UID:103@riistavesi.fi
DTSTART:20241215T140000Z
DTEND:20241215T140000Z
DTSTAMP:20241108T152500Z
URL:https://riistavesi.fi/events/holokkalan-joulukonsertti-tule-joulu-kult
 ainen/
SUMMARY:Hölökkälän joulukonsertti Tule joulu kultainen
DESCRIPTION:Joulukonsertti Tule joulu kultainen Hölökkälässä. Konsert
 issa kuullaan joulun rakastettuja lauluja sellolle ja pianolle sovitettuna
 . Tapahtumaan on vapaa pääsy\, käsiohjelma maksaa 10€ ja paikan pää
 ltä voi ostaa kahvia ja pullaa.\n\nEsiintyjät: Iiris Hare\, piano &amp\;
  Finlay Hare\, sello\n\n@musiikkiamaaseudulla\n\nOsoite: Hölökkäläntie
  54
LOCATION:Hölökkälän navetta\, Hölökkäläntie 54\, Riistavesi\, Suomi
X-APPLE-STRUCTURED-LOCATION;VALUE=URI;X-ADDRESS=Hölökkäläntie 54\, Riis
 tavesi\, Suomi;X-APPLE-RADIUS=100;X-TITLE=Hölökkälän navetta:geo:0,0
END:VEVENT
END:VCALENDAR