BEGIN:VCALENDAR
VERSION:2.0
PRODID:-//wp-events-plugin.com//7.2.3.1//EN
BEGIN:VEVENT
UID:148@riistavesi.fi
DTSTART:20250621T080000Z
DTEND:20250621T080000Z
DTSTAMP:20250513T125504Z
URL:https://riistavesi.fi/events/kansanlaulukirkko/
SUMMARY:Kansanlaulukirkko
DESCRIPTION:Riistavesi- seura tarjoaa pullakahvit.
LOCATION:Riistaveden kotiseutumuseo\, Lokkitie 11\, Kuopio\, Suomi
X-APPLE-STRUCTURED-LOCATION;VALUE=URI;X-ADDRESS=Lokkitie 11\, Kuopio\, Suom
 i;X-APPLE-RADIUS=100;X-TITLE=Riistaveden kotiseutumuseo:geo:0,0
END:VEVENT
END:VCALENDAR