BEGIN:VCALENDAR
VERSION:2.0
PRODID:-//wp-events-plugin.com//7.2.3.1//EN
BEGIN:VEVENT
UID:94@riistavesi.fi
DTSTART:20241127T160000Z
DTEND:20241127T170000Z
DTSTAMP:20241125T092729Z
URL:https://riistavesi.fi/events/kauneimmat-joululaulut-kurkiharjun-entise
 ssa-koulussa/
SUMMARY:Kauneimmat joululaulut Kurkiharjun entisessä koulussa
DESCRIPTION:Ennen Kauneimpien joululaulujen aloitusta on puuroa ja kahvia s
 aatavilla klo 17.00 alkaen hintaan 5 €.\n\nTervetuloa!\n\n&nbsp\;
LOCATION:Kurkiharjun entinen koulu\, Kurkiharjuntie 78\, Kortejoki\, 71130\
 , Suomi
X-APPLE-STRUCTURED-LOCATION;VALUE=URI;X-ADDRESS=Kurkiharjuntie 78\, Kortejo
 ki\, 71130\, Suomi;X-APPLE-RADIUS=100;X-TITLE=Kurkiharjun entinen koulu:ge
 o:0,0
END:VEVENT
END:VCALENDAR