BEGIN:VCALENDAR
VERSION:2.0
PRODID:-//wp-events-plugin.com//7.2.3.1//EN
BEGIN:VEVENT
UID:75@riistavesi.fi
DTSTART:20240711T160000Z
DTEND:20240711T173000Z
DTSTAMP:20240613T114415Z
URL:https://riistavesi.fi/events/klassikkoveisujen-yhteislauluilta/
SUMMARY:Klassikkoveisujen yhteislauluilta
DESCRIPTION:Lauletaan nuoren seurakunnan veisukirjojen klassikkokappaleita.
  Tilaisuus ulkona\; sateen sattuessa sisätilassa. Kahvitarjoilu.
LOCATION:Riistaveden vanha pappila\, Syrjäntie 37\, Riistavesi\, 71160\, S
 uomi
X-APPLE-STRUCTURED-LOCATION;VALUE=URI;X-ADDRESS=Syrjäntie 37\, Riistavesi\
 , 71160\, Suomi;X-APPLE-RADIUS=100;X-TITLE=Riistaveden vanha pappila:geo:0
 ,0
END:VEVENT
END:VCALENDAR