BEGIN:VCALENDAR
VERSION:2.0
PRODID:-//wp-events-plugin.com//7.2.3.1//EN
BEGIN:VEVENT
UID:143@riistavesi.fi
DTSTART:20250517T090000Z
DTEND:20250517T110000Z
DTSTAMP:20250505T190717Z
URL:https://riistavesi.fi/events/koko-kylan-yhteinen-liikuntapaiva-vaarun-
 maastossa/
SUMMARY:Koko kylän yhteinen liikuntapäivä Vaarun maastossa
DESCRIPTION:Koko kylän yhteinen liikuntapäivä Vaarun maastossa lauantain
 a 17.5.2025 klo 11-13\n\nOhjattua sauvakävelyä\, Pertun portailla opastu
 sta porrasharjoitteluun\, polkujouksu ja maastopyräily infoa Vaarun maast
 oihin sekä lapsille suunnistusta.\n\nKaikkien osallistujien kesken arvota
 an mm. jalkahoito Hymy ja Hoivaan.\n\nTervetuloa! 
LOCATION:Riistaveden Vaaru\, Kaavintie\, 71160 Riistavesi\, Riistavesi\, Ku
 opio\, Suomi
X-APPLE-STRUCTURED-LOCATION;VALUE=URI;X-ADDRESS=Kaavintie\, 71160 Riistaves
 i\, Riistavesi\, Kuopio\, Suomi;X-APPLE-RADIUS=100;X-TITLE=Riistaveden Vaa
 ru:geo:0,0
END:VEVENT
END:VCALENDAR