BEGIN:VCALENDAR
VERSION:2.0
PRODID:-//wp-events-plugin.com//7.2.3.1//EN
BEGIN:VEVENT
UID:138@riistavesi.fi
DTSTART:20250506T160000Z
DTEND:20250506T160000Z
DTSTAMP:20250429T112735Z
URL:https://riistavesi.fi/events/kuopion-kaupungin-palveluverkkoselvitykse
 n-yleisotilaisuus/
SUMMARY:Kuopion kaupungin palveluverkkoselvityksen yleisötilaisuus Riistav
 eden koululla
DESCRIPTION:Kuopion kaupunki järjestää itäisen Kuopion alueen palveluve
 rkkoselvityksen esittelyn ja maaseutuvaikutusten arvioinnin työpajan:\nIt
 äinen Kuopio: Riistaveden koulu (Koulutie 12\, Riistavesi) tiistaina 6.5.
 2025 klo 18.00\, kulku A1-ovi\, liikuntapihan puolelta\n\nMielipiteensä v
 oi jättää ja esittää myös sähköisen kyselyn kautta\, joka on avoin
 na 10.4.-10.5.2025.\n\nKyselyyn pääset tästä\n\nTutustu palveluverkkos
 elvitykseen: https://www.kuopio.fi/kuopionkaupunki/talous/talouden-tasapai
 notus/palveluverkoston-tarkastelu/\n\n
LOCATION:Riistaveden monitoimijatalo\, Koulutie 12\, Riistavesi\, Suomi
X-APPLE-STRUCTURED-LOCATION;VALUE=URI;X-ADDRESS=Koulutie 12\, Riistavesi\, 
 Suomi;X-APPLE-RADIUS=100;X-TITLE=Riistaveden monitoimijatalo:geo:0,0
END:VEVENT
END:VCALENDAR