BEGIN:VCALENDAR
VERSION:2.0
PRODID:-//wp-events-plugin.com//7.2.3.1//EN
BEGIN:VEVENT
UID:154@riistavesi.fi
DTSTART:20250609T160000Z
DTEND:20250609T160000Z
DTSTAMP:20250522T044743Z
URL:https://riistavesi.fi/events/metsajooga-vaarulla-2/
SUMMARY:Metsäjooga Vaarulla
DESCRIPTION:Metsäjoogaa\n\nVaarulla maanantai\, 9.6.  klo 18\n\nArja Toiv
 asen/Fysio Savotar vetämänä metsäjoogaa kesäkuussa kolmena maanantain
 a Vaarun maastossa. Lähtö pururadan parkkipaikalta. Metsäjooga sopii ka
 iken ikäisille ja kuntoisille\, niin aloittelijoille kuin joogaa jo harra
 staneille. Tähän riittää tukevat jalkineet ja joustavat vaatteet.\n\nM
 aksu 6 euroa/ kerta.Kaikille avoin tilaisuus. Voi osallistua kaikkiin tai 
 vain yhteen iltaan.
LOCATION:Riistaveden Vaaru\, Kaavintie\, 71160 Riistavesi\, Riistavesi\, Ku
 opio\, Suomi
X-APPLE-STRUCTURED-LOCATION;VALUE=URI;X-ADDRESS=Kaavintie\, 71160 Riistaves
 i\, Riistavesi\, Kuopio\, Suomi;X-APPLE-RADIUS=100;X-TITLE=Riistaveden Vaa
 ru:geo:0,0
END:VEVENT
END:VCALENDAR