BEGIN:VCALENDAR
VERSION:2.0
PRODID:-//wp-events-plugin.com//7.2.3.1//EN
BEGIN:VEVENT
UID:155@riistavesi.fi
DTSTART:20250616T160000Z
DTEND:20250616T160000Z
DTSTAMP:20250522T045026Z
URL:https://riistavesi.fi/events/metsajooga-vaarulla-3/
SUMMARY:Metsäjooga Vaarulla
DESCRIPTION:Metsäjoogaa\n\nVaarulla maanantai 16.6. klo 18\n\nArja Toivase
 n/Fysio Savotar vetämänä metsäjoogaa kesäkuussa kolmena maanantaina V
 aarun maastossa. Lähtö pururadan parkkipaikalta. Metsäjooga sopii kaike
 n ikäisille ja kuntoisille\, niin aloittelijoille kuin joogaa jo harrasta
 neille. Tähän riittää tukevat jalkineet ja joustavat vaatteet.\n\nMaks
 u 6 euroa/ kerta. Kaikille avoin tilaisuus. Voi osallistua kaikkiin tai va
 in yhteen iltaan.
LOCATION:Riistaveden Vaaru\, Kaavintie\, 71160 Riistavesi\, Riistavesi\, Ku
 opio\, Suomi
X-APPLE-STRUCTURED-LOCATION;VALUE=URI;X-ADDRESS=Kaavintie\, 71160 Riistaves
 i\, Riistavesi\, Kuopio\, Suomi;X-APPLE-RADIUS=100;X-TITLE=Riistaveden Vaa
 ru:geo:0,0
END:VEVENT
END:VCALENDAR