BEGIN:VCALENDAR
VERSION:2.0
PRODID:-//wp-events-plugin.com//7.2.3.1//EN
BEGIN:VEVENT
UID:34@riistavesi.fi
DTSTART:20240409T120000Z
DTEND:20240409T130000Z
DTSTAMP:20240223T135644Z
URL:https://riistavesi.fi/events/sulasta-rakkaudesta-2/
SUMMARY:Sulasta rakkaudesta
DESCRIPTION:\nSulasta rakkaudesta\nMusiikillinen esitys Maria Jotunin kolme
 sta tekstistä: Ikkunanpesijät\, Maantiellä ja\nUntako lienee.\nEsiintyj
 ät: näyttelijät Seija Pitkänen ja Sirpa Taivainen\nKesto: 50 min\n\nTi
 laisuuteen on vapaa pääsy\, tervetuloa!\n\nTilaisuuden järjestäjä Kuo
 pion kaupungin kansalaistoiminnan palvelut\n\nTaide- ja kulttuuritoimintaa
  60+vuotiaille\, kevät 2024
LOCATION:Riistaveden monitoimijatalo\, Kirjasto\, Koulutie 12 (B-ovi)\, Kou
 lutie 12\, Kuopio\, 71160\, Suomi
X-APPLE-STRUCTURED-LOCATION;VALUE=URI;X-ADDRESS=Koulutie 12\, Kuopio\, 7116
 0\, Suomi;X-APPLE-RADIUS=100;X-TITLE=Riistaveden monitoimijatalo\, Kirjast
 o\, Koulutie 12 (B-ovi):geo:0,0
END:VEVENT
END:VCALENDAR