BEGIN:VCALENDAR
VERSION:2.0
PRODID:-//wp-events-plugin.com//7.2.3.1//EN
BEGIN:VEVENT
UID:156@riistavesi.fi
DTSTART:20250605T150000Z
DTEND:20250605T150000Z
DTSTAMP:20250522T094632Z
URL:https://riistavesi.fi/events/vapaa-ajan-asuntojen-muuttaminen-pysyvaan
 -asumiseen-tilaisuus/
SUMMARY:Vapaa-ajan asuntojen muuttaminen pysyvään asumiseen -tilaisuus
DESCRIPTION:Tilaisuus järjestetään Riistaveden museolla 5.6. klo 17.30.\
 nKahvit klo 17.00.\n\nTeams -linkki etäosallistujille\nKokoustunnus: 383 
 896 599 331 2\nTunnuskoodi:zo9Xe7MB\n\nTervetuloa!
LOCATION:Riistaveden museo\, Lokkitie 11\, Riistavesi\, Suomi
X-APPLE-STRUCTURED-LOCATION;VALUE=URI;X-ADDRESS=Lokkitie 11\, Riistavesi\, 
 Suomi;X-APPLE-RADIUS=100;X-TITLE=Riistaveden museo:geo:0,0
END:VEVENT
END:VCALENDAR